BEGIN:VCALENDAR
VERSION:2.0
PRODID:-//SKHE - ECPv6.15.20//NONSGML v1.0//EN
CALSCALE:GREGORIAN
METHOD:PUBLISH
X-WR-CALNAME:SKHE
X-ORIGINAL-URL:https://skhe.de
X-WR-CALDESC:Veranstaltungen für SKHE
REFRESH-INTERVAL;VALUE=DURATION:PT1H
X-Robots-Tag:noindex
X-PUBLISHED-TTL:PT1H
BEGIN:VTIMEZONE
TZID:UTC
BEGIN:STANDARD
TZOFFSETFROM:+0000
TZOFFSETTO:+0000
TZNAME:UTC
DTSTART:20250101T000000
END:STANDARD
END:VTIMEZONE
BEGIN:VEVENT
DTSTART;VALUE=DATE:20260612
DTEND;VALUE=DATE:20260615
DTSTAMP:20260421T133041
CREATED:20250117T212839Z
LAST-MODIFIED:20260309T213105Z
UID:1246-1781222400-1781481599@skhe.de
SUMMARY:Segel-Wochenende in Friesland\, NL
DESCRIPTION:Liebe Freunde des Segelsports\, \nwie in den vergangenen Jahren geht unser Segelwochenende nach Friesland in den Niederlanden. Hier kann das Slotermeer\, Heegermeer\,Brandemeer besegelt sowie Sloten und Woudsend besichtigt werden. Zusätzlich können wir noch die die Gewässer des Langwarder Wielen über das Tjeukemeer oder Sneekermeer befahren und die Ortschaften Echtenerbrug und Langweeer erkunden. Unsere Unterkunft ist ein alter Bauernhof der zur Ferienanlage umgebaut wurde. Wir übernachten in kleinen\, gemütlichen Appartements. Diese haben zwei Schlafzimmer und sind für 4-6 Personen ausgelegt. Ein kleiner Hafen und Camping/Zeltplatz gehören zur Anlage. \nUnsere Valkjollen liegen direkt vor den Appartements. \nDie Anreise sollte idealerweise am Freitag zwischen 16 und 18 Uhr erfolgen. Dann können wir die Appartements beziehen und abends gemeinsam essen gehen.
URL:https://skhe.de/event/segel-wochenende-in-nl/
LOCATION:Niederlande
ATTACH;FMTTYPE=image/jpeg:https://skhe.de/wp-content/uploads/2025/01/Segeln-NL.jpg
END:VEVENT
BEGIN:VEVENT
DTSTART;TZID=UTC:20260627T100000
DTEND;TZID=UTC:20260627T150000
DTSTAMP:20260421T133041
CREATED:20250117T212841Z
LAST-MODIFIED:20251230T124333Z
UID:1251-1782554400-1782572400@skhe.de
SUMMARY:Arbeitsdienst Lad-Pei
DESCRIPTION:Sommerferien 20.07.26-01.09.26
URL:https://skhe.de/event/arbeitsdienst-lad-pei/
END:VEVENT
BEGIN:VEVENT
DTSTART;TZID=UTC:20260711T150000
DTEND;TZID=UTC:20260711T180000
DTSTAMP:20260421T133041
CREATED:20250117T212839Z
LAST-MODIFIED:20251230T124437Z
UID:1247-1783782000-1783792800@skhe.de
SUMMARY:Sommerfest 2026
DESCRIPTION:Zu dieser Veranstaltung erfolgt eine gesonderte Einladung mit weiteren Angaben für die abschließende Planung.
URL:https://skhe.de/event/sommerfest-2025/
END:VEVENT
BEGIN:VEVENT
DTSTART;TZID=UTC:20260919T100000
DTEND;TZID=UTC:20260919T150000
DTSTAMP:20260421T133041
CREATED:20250117T212841Z
LAST-MODIFIED:20251230T124525Z
UID:1249-1789812000-1789830000@skhe.de
SUMMARY:Arbeitsdienst Pej-Z
DESCRIPTION:
URL:https://skhe.de/event/arbeitsdienst-pej-z/
END:VEVENT
BEGIN:VEVENT
DTSTART;TZID=UTC:20261011T110000
DTEND;TZID=UTC:20261011T160000
DTSTAMP:20260421T133041
CREATED:20250117T212840Z
LAST-MODIFIED:20251230T124623Z
UID:1248-1791716400-1791734400@skhe.de
SUMMARY:Absegeln
DESCRIPTION:– mit clubeigenen Bootsklassen – \nZu dieser Veranstaltung erfolgt eine gesonderte Abfrage und Einladung mit weiteren Angaben für die abschließende Planung.
URL:https://skhe.de/event/absegeln/
END:VEVENT
BEGIN:VEVENT
DTSTART;TZID=UTC:20261114T100000
DTEND;TZID=UTC:20261114T150000
DTSTAMP:20260421T133041
CREATED:20250117T212842Z
LAST-MODIFIED:20251230T125222Z
UID:1253-1794650400-1794668400@skhe.de
SUMMARY:Arbeitsdienst A-Ha
DESCRIPTION:Herbstferien 19.10.26 – 30.10.26
URL:https://skhe.de/event/arbeitsdienst-a-ha/
END:VEVENT
BEGIN:VEVENT
DTSTART;TZID=UTC:20261213T150000
DTEND;TZID=UTC:20261213T180000
DTSTAMP:20260421T133041
CREATED:20250117T212841Z
LAST-MODIFIED:20251230T124903Z
UID:1250-1797174000-1797184800@skhe.de
SUMMARY:Adventstreffen 3. Advent
DESCRIPTION:Weihnachtsferien 23.12.26 – 06.01.2027 \nZu dieser Veranstaltung erfolgt eine gesonderte Abfrage und Einladung mit weiteren Angaben für die abschließende Planung. \n 
URL:https://skhe.de/event/adventstreffen-3-advent/
END:VEVENT
END:VCALENDAR